View In:
ArcGIS JavaScript
ArcGIS Online Map Viewer
ArcGIS Earth
Service Description: 2026 EagleView orthoimagery for Prince George County. 3in to 6in pixel resolution (GSD ≤ 3in or 6in), true color (RGB), collected on 2026.03.05 and 2026.03.10.
Update schedule: Not Planned
Maintained by: GIS Office (GIS@PrinceGeorgeCountyVa.gov)
Name: BaseMap/Aerial_2026_EagleView
Description:
Single Fused Map Cache: false
Extent:
XMin: 1.1801592013888888E7
YMin: 3522815.9722222225
XMax: 1.1928312152777776E7
YMax: 3644255.902777778
Spatial Reference: 102747
(2284)
Initial Extent:
XMin: 1.1801592013888888E7
YMin: 3522815.9722222225
XMax: 1.1928312152777776E7
YMax: 3644255.902777778
Spatial Reference: 102747
(2284)
Full Extent:
XMin: 1.1801592013888888E7
YMin: 3522815.9722222225
XMax: 1.1928312152777776E7
YMax: 3644255.902777778
Spatial Reference: 102747
(2284)
Pixel Size X: 0.34722222222221993
Pixel Size Y: 0.3472222222222221
Band Count: 3
Pixel Type: U8
RasterFunction Infos: {"rasterFunctionInfos": [{
"help": "",
"name": "None",
"description": ""
}]}
Mensuration Capabilities: Basic
Inspection Capabilities:
Has Histograms: false
Has Colormap: false
Has Multi Dimensions : false
Rendering Rule:
Min Scale: 0
Max Scale: 0
Copyright Text: EagleView
Service Data Type: esriImageServiceDataTypeRGB
Min Values: N/A
Max Values: N/A
Mean Values: N/A
Standard Deviation Values: N/A
Object ID Field:
Fields:
None
Default Mosaic Method: Center
Allowed Mosaic Methods:
SortField:
SortValue: N/A
Mosaic Operator: First
Default Compression Quality: 80
Default Resampling Method: Bilinear
Max Record Count: null
Max Image Height: 4100
Max Image Width: 15000
Max Download Image Count: null
Max Mosaic Image Count: null
Allow Raster Function: true
Allow Copy: true
Allow Analysis: true
Allow Compute TiePoints: false
Supports Statistics: false
Supports Advanced Queries: false
Use StandardizedQueries: false
Raster Type Infos:
Name: Raster Dataset
Description: Supports all ArcGIS Raster Datasets
Help:
Has Raster Attribute Table: false
Edit Fields Info: N/A
Ownership Based AccessControl For Rasters: N/A
Child Resources:
Info
Statistics
Key Properties
Legend
Raster Function Infos
Supported Operations:
Export Image
Identify
Measure
Compute Histograms
Compute Statistics Histograms
Get Samples
Compute Class Statistics
Query Boundary
Compute Pixel Location
Compute Angles
Validate
Project