{
 "documentInfo": {
  "Category": "",
  "Keywords": "orthoimagery,Pictometry",
  "Version": "10.1",
  "Comments": "2018 Pictometry orthoimagery for Prince George County, Virginia. The datasets consist of tiled orthogonal imagery produced from nadir images captured by Pictometry International.",
  "AntialiasingMode": "None",
  "Title": "Pictometry (2018)",
  "Author": "N. McKenny, GIS Technician, County of Prince George, VA",
  "TextAntialiasingMode": "Force",
  "Subject": "2018 Pictometry orthoimagery for Prince George County, Virginia."
 },
 "maxImageWidth": 4096,
 "maxRecordCount": 1000,
 "tileInfo": {
  "lods": [
   {
    "level": 0,
    "scale": 250000,
    "resolution": 217.01388888888889
   },
   {
    "level": 1,
    "scale": 125000,
    "resolution": 108.50694444444444
   },
   {
    "level": 2,
    "scale": 64000,
    "resolution": 55.55555555555555
   },
   {
    "level": 3,
    "scale": 32000,
    "resolution": 27.777777777777775
   },
   {
    "level": 4,
    "scale": 16000,
    "resolution": 13.888888888888888
   },
   {
    "level": 5,
    "scale": 8000,
    "resolution": 6.9444444444444438
   },
   {
    "level": 6,
    "scale": 4800,
    "resolution": 4.1666666666666661
   },
   {
    "level": 7,
    "scale": 2400,
    "resolution": 2.083333333333333
   },
   {
    "level": 8,
    "scale": 1600,
    "resolution": 1.3888888888888888
   },
   {
    "level": 9,
    "scale": 1200,
    "resolution": 1.0416666666666665
   },
   {
    "level": 10,
    "scale": 800,
    "resolution": 0.69444444444444442
   },
   {
    "level": 11,
    "scale": 400,
    "resolution": 0.34722222222222221
   }
  ],
  "origin": {
   "x": -111140600,
   "y": 153715000.00000003
  },
  "format": "MIXED",
  "compressionQuality": 75,
  "rows": 256,
  "dpi": 96,
  "spatialReference": {
   "falseM": -100000,
   "xyTolerance": 0.0032808333333333331,
   "mUnits": 10000,
   "zUnits": 10000,
   "latestWkid": 2284,
   "zTolerance": 0.001,
   "wkid": 102747,
   "xyUnits": 36727036.7508565411,
   "mTolerance": 0.001,
   "falseX": -111140600,
   "falseY": -91532100,
   "falseZ": -100000
  },
  "cols": 256
 },
 "description": "",
 "datesInUnknownTimezone": false,
 "supportsQueryDomains": true,
 "units": "esriFeet",
 "maxSelectionCount": 2000,
 "supportedImageFormatTypes": "PNG32,PNG24,PNG,JPG,DIB,TIFF,EMF,PS,PDF,GIF,SVG,SVGZ,BMP",
 "supportsClipping": true,
 "exportTilesAllowed": false,
 "maxImageHeight": 4096,
 "tables": [],
 "supportsDatumTransformation": true,
 "cimVersion": "3.6.0",
 "supportsQueryDataElements": true,
 "layers": [
  {
   "subLayerIds": null,
   "maxScale": 0,
   "name": "PoliticalBoundaries",
   "defaultVisibility": false,
   "id": 0,
   "minScale": 0,
   "supportsDynamicLegends": true,
   "type": "Feature Layer",
   "parentLayerId": -1,
   "geometryType": "esriGeometryPolygon"
  }
 ],
 "mapName": "Layers",
 "minScale": 250000,
 "archivingInfo": {
  "supportsHistoricMoment": false
 },
 "spatialReference": {
  "falseM": -100000,
  "xyTolerance": 0.0032808333333333331,
  "mUnits": 10000,
  "zUnits": 10000,
  "latestWkid": 2284,
  "zTolerance": 0.001,
  "wkid": 102747,
  "xyUnits": 36727036.7508565411,
  "mTolerance": 0.001,
  "falseX": -111140600,
  "falseY": -91532100,
  "falseZ": -100000
 },
 "fullExtent": {
  "ymin": 3494322.7083390607,
  "xmin": 11750173.291780258,
  "ymax": 3671406.0416723951,
  "xmax": 11979339.958446926,
  "spatialReference": {
   "falseM": -100000,
   "xyTolerance": 0.0032808333333333331,
   "mUnits": 10000,
   "zUnits": 10000,
   "latestWkid": 2284,
   "zTolerance": 0.001,
   "wkid": 102747,
   "xyUnits": 36727036.7508565411,
   "mTolerance": 0.001,
   "falseX": -111140600,
   "falseY": -91532100,
   "falseZ": -100000
  }
 },
 "supportedExtensions": "",
 "serviceItemId": "066a2201f3e44e90918cf8ee9bffb36b",
 "capabilities": "Map",
 "supportsDynamicLayers": false,
 "maxScale": 400,
 "singleFusedMapCache": true,
 "currentVersion": 12,
 "storageInfo": {
  "storageFormat": "esriMapCacheStorageModeCompactV2",
  "packetSize": 128
 },
 "resampling": false,
 "mapUnits": {
  "uwkid": 9003
 },
 "referenceScale": 0,
 "supportsSpatialFilter": true,
 "maxLOD": 11,
 "supportedQueryFormats": "JSON, geoJSON, PBF",
 "datumTransformations": [
  {
   "geoTransforms": [
    {
     "latestWkid": 1500,
     "transformForward": true,
     "wkid": 1500,
     "name": "NAD_1983_To_HARN_Virginia"
    }
   ]
  },
  {
   "geoTransforms": [
    {
     "latestWkid": 1500,
     "transformForward": false,
     "wkid": 1500,
     "name": "NAD_1983_To_HARN_Virginia"
    }
   ]
  }
 ],
 "initialExtent": {
  "ymin": 3562792.7776007992,
  "xmin": 11735354.074943541,
  "ymax": 3650272.8123230212,
  "xmax": 11995308.067999097,
  "spatialReference": {
   "falseM": -100000,
   "xyTolerance": 0.0032808333333333331,
   "mUnits": 10000,
   "zUnits": 10000,
   "latestWkid": 2284,
   "zTolerance": 0.001,
   "wkid": 102747,
   "xyUnits": 36727036.7508565411,
   "mTolerance": 0.001,
   "falseX": -111140600,
   "falseY": -91532100,
   "falseZ": -100000
  }
 },
 "serviceDescription": "2018 Pictometry orthoimagery for Prince George County, Virginia. The datasets consist of tiled orthogonal imagery produced from nadir images captured by Pictometry International.",
 "copyrightText": "",
 "supportsTimeRelation": true
}
