{ "extent": { "ymin": 3522815.9722222225, "xmin": 11801592.013888888, "ymax": 3644255.902777778, "xmax": 11928312.152777776, "spatialReference": { "latestWkid": 2284, "wkid": 102747 } }, "blockWidth": 256, "mosaicOperator": "First", "serviceSourceType": "esriImageServiceSourceTypeDataset", "hasMultidimensions": false, "maxImageWidth": 15000, "meanValues": [], "hasColormap": false, "compressionType": "None", "defaultCompressionQuality": 80, "maxValues": [], "hasHistograms": false, "datasetFormat": "AFR", "maxImageHeight": 4100, "sortField": "", "bandNames": [ "Band_1", "Band_2", "Band_3" ], "spatialReference": { "latestWkid": 2284, "wkid": 102747 }, "fullExtent": { "ymin": 3522815.9722222225, "xmin": 11801592.013888888, "ymax": 3644255.902777778, "xmax": 11928312.152777776, "spatialReference": { "latestWkid": 2284, "wkid": 102747 } }, "bandCount": 3, "rasterFunctionInfos": [{ "help": "", "name": "None", "description": "" }], "supportsStatistics": false, "sortableFields": "", "minValues": [], "allowRasterFunction": true, "allowComputeTiePoints": false, "serviceDataType": "esriImageServiceDataTypeRGB", "supportsAdvancedQueries": false, "currentVersion": 12, "sortValue": null, "objectIdField": "", "blockHeight": 256, "initialExtent": { "ymin": 3522815.9722222225, "xmin": 11801592.013888888, "ymax": 3644255.902777778, "xmax": 11928312.152777776, "spatialReference": { "latestWkid": 2284, "wkid": 102747 } }, "pixelSizeX": 0.34722222222221993, "pixelSizeY": 0.3472222222222221, "defaultMosaicMethod": "Center", "name": "BaseMap/Aerial_Latest", "allowedMosaicMethods": "", "fields": [], "allowAnalysis": true, "hasRasterAttributeTable": false, "useStandardizedQueries": false, "description": "", "pixelType": "U8", "meanPixelSize": 0.10583354500042297, "exportTilesAllowed": false, "editFieldsInfo": null, "rasterTypeInfos": [{ "help": "", "name": "Raster Dataset", "description": "Supports all ArcGIS Raster Datasets" }], "defaultResamplingMethod": "Bilinear", "itemAccess": false, "minScale": 0, "serviceProperties": "Center<\/MosaicMethod>First<\/MosaicOperator>true<\/SortAscending><\/LockImageID><\/TileOrderField>0<\/TileOrderBase>0.000000<\/AvgImageSpacingX>0.000000<\/AvgImageSpacingY>0.0<\/ViewPointX>0.0<\/ViewPointY>0.0<\/ViewPointDefShiftX>0.0<\/ViewPointDefShiftY>JPEG<\/CompressionMethod>80<\/CompressionQuality>0.010000<\/CompressionTolerance>Bilinear<\/SamplingMethod><\/ImageServiceProperties><\/ImageServer>", "advancedQueryCapabilities": { "supportsStatistics": false, "supportsSqlExpression": false, "supportsOrderBy": false, "useStandardizedQueries": false, "supportsPagination": false, "supportsDistinct": false }, "serviceItemId": "1a005c3e913d434085d1cf1dd3cb0b54", "capabilities": "Image,Metadata,Mensuration", "maxScale": 0, "stdvValues": [], "allowedFields": "", "minPixelSize": 0, "sortAscending": true, "inspectionCapabilities": "", "maxPixelSize": 0, "uncompressedSize": 382924699914, "serviceDescription": "

2026 EagleView orthoimagery for Prince George County. 3in to 6in pixel resolution (GSD ≤ 3in or 6in), true color (RGB), collected on 2026.03.05 and 2026.03.10.<\/span><\/p>
Update schedule: Not Planned<\/span><\/p>
Maintained by: GIS Office (GIS@PrinceGeorgeCountyVa.gov)<\/span><\/p><\/div><\/div><\/div>", "allowCopy": true, "copyrightText": "EagleView", "mensurationCapabilities": "Basic", "ownershipBasedAccessControlForRasters": null }